BEGIN:VCALENDAR
VERSION:2.0
PRODID:-//Access Behavioral Health Services - ECPv6.15.20//NONSGML v1.0//EN
CALSCALE:GREGORIAN
METHOD:PUBLISH
X-WR-CALNAME:Access Behavioral Health Services
X-ORIGINAL-URL:https://accessbhs.com
X-WR-CALDESC:Events for Access Behavioral Health Services
REFRESH-INTERVAL;VALUE=DURATION:PT1H
X-Robots-Tag:noindex
X-PUBLISHED-TTL:PT1H
BEGIN:VTIMEZONE
TZID:America/Boise
BEGIN:DAYLIGHT
TZOFFSETFROM:-0700
TZOFFSETTO:-0600
TZNAME:MDT
DTSTART:20250309T090000
END:DAYLIGHT
BEGIN:STANDARD
TZOFFSETFROM:-0600
TZOFFSETTO:-0700
TZNAME:MST
DTSTART:20251102T080000
END:STANDARD
BEGIN:DAYLIGHT
TZOFFSETFROM:-0700
TZOFFSETTO:-0600
TZNAME:MDT
DTSTART:20260308T090000
END:DAYLIGHT
BEGIN:STANDARD
TZOFFSETFROM:-0600
TZOFFSETTO:-0700
TZNAME:MST
DTSTART:20261101T080000
END:STANDARD
BEGIN:DAYLIGHT
TZOFFSETFROM:-0700
TZOFFSETTO:-0600
TZNAME:MDT
DTSTART:20270314T090000
END:DAYLIGHT
BEGIN:STANDARD
TZOFFSETFROM:-0600
TZOFFSETTO:-0700
TZNAME:MST
DTSTART:20271107T080000
END:STANDARD
END:VTIMEZONE
BEGIN:VEVENT
DTSTART;TZID=America/Boise:20260523T113000
DTEND;TZID=America/Boise:20260523T130000
DTSTAMP:20260420T005204
CREATED:20260331T190023Z
LAST-MODIFIED:20260331T190137Z
UID:3854-1779535800-1779541200@accessbhs.com
SUMMARY:Join Access Behavioral Health at the NAMIWalk — May 23
DESCRIPTION:We’re proud to be participating in this year’s NAMIWalk on Saturday\, May 23. Access Behavioral Health Services will be hosting a table at the Old Timers Shelter in Ann Morrison Park — come say hello! Registration begins at 10:30 AM and the walk’s opening ceremonies will follow; the 5K walk starts at 11:30 AM and takes a scenic route around the park. Visit our table for information about our programs\, handouts\, and a chance to talk with our team about services and supports for you or a loved one. The event is family-friendly — bring water\, wear comfortable shoes\, and join us in supporting mental health in our community. \nCall to action (optional)\nWant to join us? Register for the walk online or at the park on the day of the event — we hope to see you there! \n  \n \n \n 
URL:https://accessbhs.com/event/join-access-behavioral-health-at-the-namiwalk-may-23/
LOCATION:The Old Timers Shelter in Ann Morrison Park\, 1000 Americana Blvd\, Boise\, ID\, 83706\, United States
ORGANIZER;CN="Kerrie Copelin":MAILTO:events@namiidaho.org
END:VEVENT
END:VCALENDAR