BEGIN:VCALENDAR
VERSION:2.0
PRODID:-//Access Behavioral Health Services - ECPv6.15.20//NONSGML v1.0//EN
CALSCALE:GREGORIAN
METHOD:PUBLISH
X-WR-CALNAME:Access Behavioral Health Services
X-ORIGINAL-URL:https://accessbhs.com
X-WR-CALDESC:Events for Access Behavioral Health Services
REFRESH-INTERVAL;VALUE=DURATION:PT1H
X-Robots-Tag:noindex
X-PUBLISHED-TTL:PT1H
BEGIN:VTIMEZONE
TZID:America/Boise
BEGIN:DAYLIGHT
TZOFFSETFROM:-0700
TZOFFSETTO:-0600
TZNAME:MDT
DTSTART:20250309T090000
END:DAYLIGHT
BEGIN:STANDARD
TZOFFSETFROM:-0600
TZOFFSETTO:-0700
TZNAME:MST
DTSTART:20251102T080000
END:STANDARD
BEGIN:DAYLIGHT
TZOFFSETFROM:-0700
TZOFFSETTO:-0600
TZNAME:MDT
DTSTART:20260308T090000
END:DAYLIGHT
BEGIN:STANDARD
TZOFFSETFROM:-0600
TZOFFSETTO:-0700
TZNAME:MST
DTSTART:20261101T080000
END:STANDARD
BEGIN:DAYLIGHT
TZOFFSETFROM:-0700
TZOFFSETTO:-0600
TZNAME:MDT
DTSTART:20270314T090000
END:DAYLIGHT
BEGIN:STANDARD
TZOFFSETFROM:-0600
TZOFFSETTO:-0700
TZNAME:MST
DTSTART:20271107T080000
END:STANDARD
END:VTIMEZONE
BEGIN:VEVENT
DTSTART;TZID=America/Boise:20260429T173000
DTEND;TZID=America/Boise:20260429T200000
DTSTAMP:20260420T005938
CREATED:20260303T201948Z
LAST-MODIFIED:20260303T202710Z
UID:3729-1777483800-1777492800@accessbhs.com
SUMMARY:LIGHT THE NIGHT for HOPE
DESCRIPTION:
URL:https://accessbhs.com/event/light-the-night-for-hope/
LOCATION:Boise State Student Union – Jordan Ball Room\, 1700 W University Dr\, Boise\, Id\, 83725\, United States
END:VEVENT
END:VCALENDAR