BEGIN:VCALENDAR
VERSION:2.0
PRODID:-//Access Behavioral Health Services - ECPv6.15.20//NONSGML v1.0//EN
CALSCALE:GREGORIAN
METHOD:PUBLISH
X-WR-CALNAME:Access Behavioral Health Services
X-ORIGINAL-URL:https://accessbhs.com
X-WR-CALDESC:Events for Access Behavioral Health Services
REFRESH-INTERVAL;VALUE=DURATION:PT1H
X-Robots-Tag:noindex
X-PUBLISHED-TTL:PT1H
BEGIN:VTIMEZONE
TZID:America/Boise
BEGIN:DAYLIGHT
TZOFFSETFROM:-0700
TZOFFSETTO:-0600
TZNAME:MDT
DTSTART:20250309T090000
END:DAYLIGHT
BEGIN:STANDARD
TZOFFSETFROM:-0600
TZOFFSETTO:-0700
TZNAME:MST
DTSTART:20251102T080000
END:STANDARD
BEGIN:DAYLIGHT
TZOFFSETFROM:-0700
TZOFFSETTO:-0600
TZNAME:MDT
DTSTART:20260308T090000
END:DAYLIGHT
BEGIN:STANDARD
TZOFFSETFROM:-0600
TZOFFSETTO:-0700
TZNAME:MST
DTSTART:20261101T080000
END:STANDARD
BEGIN:DAYLIGHT
TZOFFSETFROM:-0700
TZOFFSETTO:-0600
TZNAME:MDT
DTSTART:20270314T090000
END:DAYLIGHT
BEGIN:STANDARD
TZOFFSETFROM:-0600
TZOFFSETTO:-0700
TZNAME:MST
DTSTART:20271107T080000
END:STANDARD
END:VTIMEZONE
BEGIN:VEVENT
DTSTART;TZID=America/Boise:20260424T100000
DTEND;TZID=America/Boise:20260424T140000
DTSTAMP:20260420T005528
CREATED:20260413T215203Z
LAST-MODIFIED:20260413T215519Z
UID:3896-1777024800-1777039200@accessbhs.com
SUMMARY:Destination Wellness Fair 2026
DESCRIPTION:Access Behavioral Health Services will be hosting a resource table at the Destination Wellness Fair 2026\, taking place at the Nampa Public Library on Friday\, April 24 from 10:00 AM to 2:00 PM. \nWe invite community members to stop by to learn more about our mental health and behavioral health services\, connect with our team\, and explore resources designed to support overall wellness. This event is a great opportunity to engage with local organizations and discover tools to support a healthier lifestyle. \n \n   \nDestination wellness Fair 2026\n    
URL:https://accessbhs.com/event/destination-wellness-fair-2026/
LOCATION:Nampa Public Library\, 215 12th Ave S.\, Nampa\, ID\, 83651\, United States
END:VEVENT
END:VCALENDAR